BEGIN:VCALENDAR
VERSION:2.0
PRODID:-//Edwinstowe Historical Society - ECPv6.15.20//NONSGML v1.0//EN
CALSCALE:GREGORIAN
METHOD:PUBLISH
X-ORIGINAL-URL:https://edwinstowehistory.org.uk
X-WR-CALDESC:Events for Edwinstowe Historical Society
REFRESH-INTERVAL;VALUE=DURATION:PT1H
X-Robots-Tag:noindex
X-PUBLISHED-TTL:PT1H
BEGIN:VTIMEZONE
TZID:Europe/London
BEGIN:DAYLIGHT
TZOFFSETFROM:+0000
TZOFFSETTO:+0100
TZNAME:BST
DTSTART:20160327T010000
END:DAYLIGHT
BEGIN:STANDARD
TZOFFSETFROM:+0100
TZOFFSETTO:+0000
TZNAME:GMT
DTSTART:20161030T010000
END:STANDARD
BEGIN:DAYLIGHT
TZOFFSETFROM:+0000
TZOFFSETTO:+0100
TZNAME:BST
DTSTART:20170326T010000
END:DAYLIGHT
BEGIN:STANDARD
TZOFFSETFROM:+0100
TZOFFSETTO:+0000
TZNAME:GMT
DTSTART:20171029T010000
END:STANDARD
BEGIN:DAYLIGHT
TZOFFSETFROM:+0000
TZOFFSETTO:+0100
TZNAME:BST
DTSTART:20180325T010000
END:DAYLIGHT
BEGIN:STANDARD
TZOFFSETFROM:+0100
TZOFFSETTO:+0000
TZNAME:GMT
DTSTART:20181028T010000
END:STANDARD
BEGIN:DAYLIGHT
TZOFFSETFROM:+0000
TZOFFSETTO:+0100
TZNAME:BST
DTSTART:20190331T010000
END:DAYLIGHT
BEGIN:STANDARD
TZOFFSETFROM:+0100
TZOFFSETTO:+0000
TZNAME:GMT
DTSTART:20191027T010000
END:STANDARD
BEGIN:DAYLIGHT
TZOFFSETFROM:+0000
TZOFFSETTO:+0100
TZNAME:BST
DTSTART:20200329T010000
END:DAYLIGHT
BEGIN:STANDARD
TZOFFSETFROM:+0100
TZOFFSETTO:+0000
TZNAME:GMT
DTSTART:20201025T010000
END:STANDARD
BEGIN:DAYLIGHT
TZOFFSETFROM:+0000
TZOFFSETTO:+0100
TZNAME:BST
DTSTART:20210328T010000
END:DAYLIGHT
BEGIN:STANDARD
TZOFFSETFROM:+0100
TZOFFSETTO:+0000
TZNAME:GMT
DTSTART:20211031T010000
END:STANDARD
BEGIN:DAYLIGHT
TZOFFSETFROM:+0000
TZOFFSETTO:+0100
TZNAME:BST
DTSTART:20220327T010000
END:DAYLIGHT
BEGIN:STANDARD
TZOFFSETFROM:+0100
TZOFFSETTO:+0000
TZNAME:GMT
DTSTART:20221030T010000
END:STANDARD
BEGIN:DAYLIGHT
TZOFFSETFROM:+0000
TZOFFSETTO:+0100
TZNAME:BST
DTSTART:20230326T010000
END:DAYLIGHT
BEGIN:STANDARD
TZOFFSETFROM:+0100
TZOFFSETTO:+0000
TZNAME:GMT
DTSTART:20231029T010000
END:STANDARD
BEGIN:DAYLIGHT
TZOFFSETFROM:+0000
TZOFFSETTO:+0100
TZNAME:BST
DTSTART:20240331T010000
END:DAYLIGHT
BEGIN:STANDARD
TZOFFSETFROM:+0100
TZOFFSETTO:+0000
TZNAME:GMT
DTSTART:20241027T010000
END:STANDARD
BEGIN:DAYLIGHT
TZOFFSETFROM:+0000
TZOFFSETTO:+0100
TZNAME:BST
DTSTART:20250330T010000
END:DAYLIGHT
BEGIN:STANDARD
TZOFFSETFROM:+0100
TZOFFSETTO:+0000
TZNAME:GMT
DTSTART:20251026T010000
END:STANDARD
BEGIN:DAYLIGHT
TZOFFSETFROM:+0000
TZOFFSETTO:+0100
TZNAME:BST
DTSTART:20260329T010000
END:DAYLIGHT
BEGIN:STANDARD
TZOFFSETFROM:+0100
TZOFFSETTO:+0000
TZNAME:GMT
DTSTART:20261025T010000
END:STANDARD
END:VTIMEZONE
BEGIN:VTIMEZONE
TZID:UTC
BEGIN:STANDARD
TZOFFSETFROM:+0000
TZOFFSETTO:+0000
TZNAME:UTC
DTSTART:20160101T000000
END:STANDARD
END:VTIMEZONE
BEGIN:VEVENT
DTSTART;TZID=Europe/London:20250917T140000
DTEND;TZID=Europe/London:20250917T160000
DTSTAMP:20260424T110154
CREATED:20241220T220905Z
LAST-MODIFIED:20250622T153842Z
UID:15192-1758117600-1758124800@edwinstowehistory.org.uk
SUMMARY:Programme of events 2025 - 2026
DESCRIPTION:
URL:https://edwinstowehistory.org.uk/event/programme-of-events-2024-2025/
END:VEVENT
BEGIN:VEVENT
DTSTART;TZID=Europe/London:20250402T080000
DTEND;TZID=Europe/London:20250402T170000
DTSTAMP:20260424T110154
CREATED:20250402T185620Z
LAST-MODIFIED:20250402T185620Z
UID:15409-1743580800-1743613200@edwinstowehistory.org.uk
SUMMARY:April 2025 Update
DESCRIPTION:At a recent meeting of the Edwinstowe Historical Society Adrian Gray spoke about the life of Richard Bernard who was born in Epworth.  He was a great figure amongst puritans and separatists under James I.  As a writer he influenced John Bunyan and wrote an authoritative book about witches based on his experience in Worksop.  Richard’s daughter helped found Rhode Island\, a state in America. \nThe researchers have been busy again\, dealing with a request from a gentleman living in Holland wishing to know more about his great grandfather who died in Edwinstowe.  Great grandfather had been born in Galicia (present day Ukraine) in 1904 and following the German invasion in 1939 and subsequent Russian “liberation” he came to the UK in 1944.  The family had lost contact with him until notified of his death in 1981. The Society’s enquiries led to the lane where he had lived and a neighbour remembered him and knew burial had taken place in the Forest cemetery.  The grave was located and after cleaning the headstone a photo was forwarded to the enquirer who was delighted to show it to his grandmother so she could see where her father was buried.  This year Edwinstowe will receive an extra visitor who will have a special reason to visit the village as well as exploring Sherwood Forest.
URL:https://edwinstowehistory.org.uk/event/april-2025-update/
END:VEVENT
BEGIN:VEVENT
DTSTART;TZID=Europe/London:20230920T140000
DTEND;TZID=Europe/London:20230920T160000
DTSTAMP:20260424T110154
CREATED:20230827T094035Z
LAST-MODIFIED:20230827T094235Z
UID:14472-1695218400-1695225600@edwinstowehistory.org.uk
SUMMARY:PROGRAMME 2023/24
DESCRIPTION:
URL:https://edwinstowehistory.org.uk/event/programme-2023-24/
END:VEVENT
BEGIN:VEVENT
DTSTART;TZID=Europe/London:20230519T080000
DTEND;TZID=Europe/London:20230519T170000
DTSTAMP:20260424T110154
CREATED:20230519T195116Z
LAST-MODIFIED:20230520T205327Z
UID:14261-1684483200-1684515600@edwinstowehistory.org.uk
SUMMARY:Latest Programme 2023 -2024
DESCRIPTION:
URL:https://edwinstowehistory.org.uk/event/latest-programme-2023-2024/
END:VEVENT
BEGIN:VEVENT
DTSTART;TZID=Europe/London:20220420T140000
DTEND;TZID=Europe/London:20220420T160000
DTSTAMP:20260424T110154
CREATED:20220413T083756Z
LAST-MODIFIED:20220413T091356Z
UID:13161-1650463200-1650470400@edwinstowehistory.org.uk
SUMMARY:April - Cockglode House
DESCRIPTION:The Society plan to hold the next meeting on Wed. 20th April at 2.00 p.m. in St Mary’s Church Rooms\, Mansfield Road\, Edwinstowe. \nThere will be a presentation about Cockglode House\, Edwinstowe. A house lost under the Thoresby Colliery site. \n  \nVisitors will be welcome for a charge of £3. \nRefreshments will  be served.
URL:https://edwinstowehistory.org.uk/event/april-easter-meeting/
LOCATION:St Mary’s Church Rooms\, Mansfield Road\, Edwinstowe\, Mansfield\, Nottinghamshire\, NG21 9NJ\, United Kingdom
ATTACH;FMTTYPE=image/jpeg:https://edwinstowehistory.org.uk/wp-content/uploads/2021/11/ELH-2523-Cockglode-House-6-Garden.jpg
END:VEVENT
BEGIN:VEVENT
DTSTART;TZID=Europe/London:20220316T140000
DTEND;TZID=Europe/London:20220316T160000
DTSTAMP:20260424T110154
CREATED:20220115T120326Z
LAST-MODIFIED:20220307T142724Z
UID:12544-1647439200-1647446400@edwinstowehistory.org.uk
SUMMARY:March Meeting
DESCRIPTION:The Society plan to hold the next meeting on Wed. 16th March at 2.00 p.m. in St Mary’s Church Rooms\, Mansfield Road\, Edwinstowe. \nVisitors will be welcome for a charge of £3. \nRefreshments will  be served.
URL:https://edwinstowehistory.org.uk/event/march-16th-2022/
LOCATION:St Mary’s Church Rooms\, Mansfield Road\, Edwinstowe\, Mansfield\, Nottinghamshire\, NG21 9NJ\, United Kingdom
END:VEVENT
BEGIN:VEVENT
DTSTART;TZID=Europe/London:20220216T140000
DTEND;TZID=Europe/London:20220216T160000
DTSTAMP:20260424T110154
CREATED:20220307T143053Z
LAST-MODIFIED:20220307T143449Z
UID:13048-1645020000-1645027200@edwinstowehistory.org.uk
SUMMARY:February Meeting
DESCRIPTION:The Society plan to hold the first meeting of members on Wednesday\, 16th February\, 2022 at 2.00 p.m. in St Mary’s Church Rooms\, Mansfield Road\, Edwinstowe. WE CAN CONFIRM THAT THE MEETING WILL GO AHEAD. \nVisitors will be welcome for a charge of £3. \nThe duration of the meeting will be shorter than usual\, lasting one hour\, including a power point presentation about Edwinstowe\, Tourism and Sherwood Forest. \nRefreshments will NOT be served\, but anyone wishing to bring their own drink is welcome to do so.
URL:https://edwinstowehistory.org.uk/event/february-meeting/
LOCATION:St Mary’s Church Rooms\, Mansfield Road\, Edwinstowe\, Mansfield\, Nottinghamshire\, NG21 9NJ\, United Kingdom
END:VEVENT
BEGIN:VEVENT
DTSTART;TZID=Europe/London:20200318T140000
DTEND;TZID=Europe/London:20200318T160000
DTSTAMP:20260424T110154
CREATED:20190827T162615Z
LAST-MODIFIED:20200314T204521Z
UID:8314-1584540000-1584547200@edwinstowehistory.org.uk
SUMMARY:Pilgrim Links – Mayflower Celebrations - Cancelled New date to be confirmed
DESCRIPTION:Presenter : Samantha Glasswell \nSubject: Pilgrim Links – Mayflower Celebrations Cancelled New date to be confirmed \n \n  \n 
URL:https://edwinstowehistory.org.uk/event/pilgrim-links-mayflower-celebrations/
LOCATION:The Church Rooms\, The Church Rooms\, Mansfield Road\,\, Edwinstowe\, Mansfield\, NG21 9NJ\, United Kingdom
END:VEVENT
BEGIN:VEVENT
DTSTART;TZID=Europe/London:20200219T140000
DTEND;TZID=Europe/London:20200219T160000
DTSTAMP:20260424T110154
CREATED:20190827T162755Z
LAST-MODIFIED:20200229T130632Z
UID:8313-1582120800-1582128000@edwinstowehistory.org.uk
SUMMARY:Rufford Abbey
DESCRIPTION:Presenter : Pete Smith \nSubject: Rufford Abbey \n \n  \n  \n  \n  \n  \n  \n  \n  \n  \n  \n  \n  \n  \n  \n 
URL:https://edwinstowehistory.org.uk/event/rufford-abbey/
LOCATION:The Church Rooms\, The Church Rooms\, Mansfield Road\,\, Edwinstowe\, Mansfield\, NG21 9NJ\, United Kingdom
END:VEVENT
BEGIN:VEVENT
DTSTART;TZID=Europe/London:20190619T140000
DTEND;TZID=Europe/London:20190619T160000
DTSTAMP:20260424T110154
CREATED:20180628T092409Z
LAST-MODIFIED:20180628T092409Z
UID:6694-1560952800-1560960000@edwinstowehistory.org.uk
SUMMARY:TBA
DESCRIPTION:TBA
URL:https://edwinstowehistory.org.uk/event/tba-3/
LOCATION:The Church Rooms\, The Church Rooms\, Mansfield Road\,\, Edwinstowe\, Mansfield\, NG21 9NJ\, United Kingdom
END:VEVENT
BEGIN:VEVENT
DTSTART;TZID=Europe/London:20190515T140000
DTEND;TZID=Europe/London:20190515T160000
DTSTAMP:20260424T110154
CREATED:20180628T092249Z
LAST-MODIFIED:20180628T092249Z
UID:6692-1557928800-1557936000@edwinstowehistory.org.uk
SUMMARY:Annual General Meeting
DESCRIPTION:AGM
URL:https://edwinstowehistory.org.uk/event/annual-general-meeting-2/
LOCATION:The Church Rooms\, The Church Rooms\, Mansfield Road\,\, Edwinstowe\, Mansfield\, NG21 9NJ\, United Kingdom
END:VEVENT
BEGIN:VEVENT
DTSTART;TZID=Europe/London:20190220T140000
DTEND;TZID=Europe/London:20190220T160000
DTSTAMP:20260424T110154
CREATED:20190227T175559Z
LAST-MODIFIED:20190227T175929Z
UID:7905-1550671200-1550678400@edwinstowehistory.org.uk
SUMMARY:Sherwood Forest Highway Robbery
DESCRIPTION:Presenter: Bob Massey \nSubject: Sherwood Forest Highway Robbery \n \n  \n  \n 
URL:https://edwinstowehistory.org.uk/event/the-forest-highway-robbery-2/
LOCATION:The Church Rooms\, The Church Rooms\, Mansfield Road\,\, Edwinstowe\, Mansfield\, NG21 9NJ\, United Kingdom
END:VEVENT
BEGIN:VEVENT
DTSTART;VALUE=DATE:20190116
DTEND;VALUE=DATE:20190117
DTSTAMP:20260424T110154
CREATED:20180628T090700Z
LAST-MODIFIED:20181023T200707Z
UID:6679-1547596800-1547683199@edwinstowehistory.org.uk
SUMMARY:Members' Lunch
DESCRIPTION:Members’ Lunch \nTime to be confirmed
URL:https://edwinstowehistory.org.uk/event/members-lunch/
LOCATION:To Be Confirmed\, United Kingdom
END:VEVENT
BEGIN:VEVENT
DTSTART;TZID=Europe/London:20181121T140000
DTEND;TZID=Europe/London:20181121T160000
DTSTAMP:20260424T110154
CREATED:20180628T090318Z
LAST-MODIFIED:20181024T193927Z
UID:6675-1542808800-1542816000@edwinstowehistory.org.uk
SUMMARY:British POW camps and Edwinstowe’s part
DESCRIPTION:Presenter: Kevin Murphy \nSubject: Illustrated talk “British POW camps and Edwinstowe’s part.”
URL:https://edwinstowehistory.org.uk/event/british-pow-camps-and-edwinstowes-part/
LOCATION:The Church Rooms\, The Church Rooms\, Mansfield Road\,\, Edwinstowe\, Mansfield\, NG21 9NJ\, United Kingdom
END:VEVENT
BEGIN:VEVENT
DTSTART;TZID=Europe/London:20181017T140000
DTEND;TZID=Europe/London:20181017T160000
DTSTAMP:20260424T110154
CREATED:20180628T090114Z
LAST-MODIFIED:20180928T112152Z
UID:6672-1539784800-1539792000@edwinstowehistory.org.uk
SUMMARY:Village History
DESCRIPTION:Presenters: Edwinstowe Historical Society Committee \nSubject: Edwinstowe Hall & Bowls Club \n \n 
URL:https://edwinstowehistory.org.uk/event/village-history/
LOCATION:The Church Rooms\, The Church Rooms\, Mansfield Road\,\, Edwinstowe\, Mansfield\, NG21 9NJ\, United Kingdom
END:VEVENT
BEGIN:VEVENT
DTSTART;TZID=Europe/London:20180919T140000
DTEND;TZID=Europe/London:20180919T160000
DTSTAMP:20260424T110154
CREATED:20180628T085956Z
LAST-MODIFIED:20180628T085956Z
UID:6670-1537365600-1537372800@edwinstowehistory.org.uk
SUMMARY:Nottinghamshire Roll of Honour
DESCRIPTION:Presenter: Dr. Davud Nunn \nSubject: “Nottinghamshire Roll of Honour” – an illustrated talk about the new WW1 Memorial to be sited in the Memorial Gardens on Nottingham Victoria Embankment.
URL:https://edwinstowehistory.org.uk/event/nottinghamshire-roll-of-honour/
LOCATION:The Church Rooms\, The Church Rooms\, Mansfield Road\,\, Edwinstowe\, Mansfield\, NG21 9NJ\, United Kingdom
END:VEVENT
BEGIN:VEVENT
DTSTART;TZID=Europe/London:20180620T140000
DTEND;TZID=Europe/London:20180620T160000
DTSTAMP:20260424T110154
CREATED:20170820T130823Z
LAST-MODIFIED:20180628T085618Z
UID:2520-1529503200-1529510400@edwinstowehistory.org.uk
SUMMARY:Village History
DESCRIPTION:Presenters: Edwinstowe Historical Society Committee \nSubject: Village History including Pubs\, Inns Dukeries Hotel and the Fire Brigade.
URL:https://edwinstowehistory.org.uk/event/tba-2/
LOCATION:The Church Rooms\, The Church Rooms\, Mansfield Road\,\, Edwinstowe\, Mansfield\, NG21 9NJ\, United Kingdom
END:VEVENT
BEGIN:VEVENT
DTSTART;TZID=Europe/London:20180516T140000
DTEND;TZID=Europe/London:20180516T160000
DTSTAMP:20260424T110154
CREATED:20170820T130730Z
LAST-MODIFIED:20180424T195115Z
UID:2518-1526479200-1526486400@edwinstowehistory.org.uk
SUMMARY:Annual General Meeting
DESCRIPTION:
URL:https://edwinstowehistory.org.uk/event/agm2018/
LOCATION:The Church Rooms\, The Church Rooms\, Mansfield Road\,\, Edwinstowe\, Mansfield\, NG21 9NJ\, United Kingdom
END:VEVENT
BEGIN:VEVENT
DTSTART;TZID=Europe/London:20180418T140000
DTEND;TZID=Europe/London:20180418T160000
DTSTAMP:20260424T110154
CREATED:20171006T090747Z
LAST-MODIFIED:20180424T193038Z
UID:2882-1524060000-1524067200@edwinstowehistory.org.uk
SUMMARY:Rufford Park Poachers
DESCRIPTION:Presenter: Sam Millard \nSubject: Rufford Park Poachers \n \n 
URL:https://edwinstowehistory.org.uk/event/rufford-park-poachers/
END:VEVENT
BEGIN:VEVENT
DTSTART;TZID=Europe/London:20180321T140000
DTEND;TZID=Europe/London:20180321T160000
DTSTAMP:20260424T110154
CREATED:20170820T130144Z
LAST-MODIFIED:20180227T113441Z
UID:2513-1521640800-1521648000@edwinstowehistory.org.uk
SUMMARY:Derbyshire Days
DESCRIPTION:Presenter: John North \nSubject: Haddan Hall\, Hardwick and Bolsover Castle
URL:https://edwinstowehistory.org.uk/event/derbyshire-days/
LOCATION:The Church Rooms\, The Church Rooms\, Mansfield Road\,\, Edwinstowe\, Mansfield\, NG21 9NJ\, United Kingdom
END:VEVENT
BEGIN:VEVENT
DTSTART;TZID=Europe/London:20180221T140000
DTEND;TZID=Europe/London:20180221T160000
DTSTAMP:20260424T110154
CREATED:20170820T125923Z
LAST-MODIFIED:20180128T161348Z
UID:2511-1519221600-1519228800@edwinstowehistory.org.uk
SUMMARY:Roman Medicine
DESCRIPTION:Presenter: Samantha Glasswell
URL:https://edwinstowehistory.org.uk/event/roman-medicine/
LOCATION:The Church Rooms\, The Church Rooms\, Mansfield Road\,\, Edwinstowe\, Mansfield\, NG21 9NJ\, United Kingdom
END:VEVENT
BEGIN:VEVENT
DTSTART;TZID=Europe/London:20180117T140000
DTEND;TZID=Europe/London:20180117T160000
DTSTAMP:20260424T110154
CREATED:20170820T125445Z
LAST-MODIFIED:20170820T125445Z
UID:2509-1516197600-1516204800@edwinstowehistory.org.uk
SUMMARY:New Year Lunch
DESCRIPTION:
URL:https://edwinstowehistory.org.uk/event/new-year-lunch-2/
LOCATION:The Church Rooms\, The Church Rooms\, Mansfield Road\,\, Edwinstowe\, Mansfield\, NG21 9NJ\, United Kingdom
END:VEVENT
BEGIN:VEVENT
DTSTART;TZID=Europe/London:20171220T140000
DTEND;TZID=Europe/London:20171220T160000
DTSTAMP:20260424T110154
CREATED:20170820T125239Z
LAST-MODIFIED:20171124T114019Z
UID:2507-1513778400-1513785600@edwinstowehistory.org.uk
SUMMARY:Treasure in the Attic
DESCRIPTION:Presenter: Brian Howes
URL:https://edwinstowehistory.org.uk/event/treasure-in-the-attic/
LOCATION:The Church Rooms\, The Church Rooms\, Mansfield Road\,\, Edwinstowe\, Mansfield\, NG21 9NJ\, United Kingdom
END:VEVENT
BEGIN:VEVENT
DTSTART;TZID=Europe/London:20171115T140000
DTEND;TZID=Europe/London:20171115T160000
DTSTAMP:20260424T110154
CREATED:20170820T125127Z
LAST-MODIFIED:20171106T132301Z
UID:2505-1510754400-1510761600@edwinstowehistory.org.uk
SUMMARY:Family History - Who Do You Think You Are?
DESCRIPTION:Presenter: Brian Drescher
URL:https://edwinstowehistory.org.uk/event/family-history-think/
LOCATION:The Church Rooms\, The Church Rooms\, Mansfield Road\,\, Edwinstowe\, Mansfield\, NG21 9NJ\, United Kingdom
END:VEVENT
BEGIN:VEVENT
DTSTART;TZID=Europe/London:20171018T140000
DTEND;TZID=Europe/London:20171018T160000
DTSTAMP:20260424T110154
CREATED:20170820T130505Z
LAST-MODIFIED:20171007T131849Z
UID:2515-1508335200-1508342400@edwinstowehistory.org.uk
SUMMARY:Sherwood Forest Visitor Centre
DESCRIPTION:Presenter: Nadia Archer  RSPB \nTopics for discussion include: \n*  Plans for the visitor centre \n*  Milestones over the coming months \n*  Volunteer roles \n*  Community engagement plans \n–
URL:https://edwinstowehistory.org.uk/event/sherwood-forest-visitor-centre/
LOCATION:The Church Rooms\, The Church Rooms\, Mansfield Road\,\, Edwinstowe\, Mansfield\, NG21 9NJ\, United Kingdom
END:VEVENT
BEGIN:VEVENT
DTSTART;TZID=Europe/London:20170920T140000
DTEND;TZID=Europe/London:20170920T160000
DTSTAMP:20260424T110154
CREATED:20170820T124554Z
LAST-MODIFIED:20170911T105253Z
UID:2501-1505916000-1505923200@edwinstowehistory.org.uk
SUMMARY:Wartime Nottinghamshire
DESCRIPTION:Presenter: Howard Heeley \n \n 
URL:https://edwinstowehistory.org.uk/event/wartime-nottinghamshire-howard-heeley/
LOCATION:The Church Rooms\, The Church Rooms\, Mansfield Road\,\, Edwinstowe\, Mansfield\, NG21 9NJ\, United Kingdom
END:VEVENT
BEGIN:VEVENT
DTSTART;TZID=Europe/London:20170708T110000
DTEND;TZID=Europe/London:20170708T130000
DTSTAMP:20260424T110154
CREATED:20170708T084327Z
LAST-MODIFIED:20170708T084822Z
UID:1970-1499511600-1499518800@edwinstowehistory.org.uk
SUMMARY:Official Opening of the Edwinstowe Archive
DESCRIPTION:The official opening of the Edwinstowe Archive and the launch of the \nEdwinstowe Historical Society website. www.edwinstowehistory.org.uk
URL:https://edwinstowehistory.org.uk/event/official-opening-of-the-edwinstowe-archive/
LOCATION:Edwinstowe House\, High Street\, Edwinstowe\, NG21 9PR\, United Kingdom
END:VEVENT
BEGIN:VEVENT
DTSTART;TZID=UTC:20170517T140000
DTEND;TZID=UTC:20170517T160000
DTSTAMP:20260424T110154
CREATED:20161023T151607Z
LAST-MODIFIED:20161023T164337Z
UID:35-1495029600-1495036800@edwinstowehistory.org.uk
SUMMARY:Annual General Meeting
DESCRIPTION:
URL:https://edwinstowehistory.org.uk/event/annual-general-meeting/
LOCATION:The Church Rooms\, The Church Rooms\, Mansfield Road\,\, Edwinstowe\, Mansfield\, NG21 9NJ\, United Kingdom
END:VEVENT
BEGIN:VEVENT
DTSTART;TZID=UTC:20170419T140000
DTEND;TZID=UTC:20170419T160000
DTSTAMP:20260424T110154
CREATED:20161023T151501Z
LAST-MODIFIED:20170820T132131Z
UID:33-1492610400-1492617600@edwinstowehistory.org.uk
SUMMARY:History of local Morris Dancing
DESCRIPTION:Presenter: Chris Rose
URL:https://edwinstowehistory.org.uk/event/chris-rose-history-of-local-morris-dancing/
LOCATION:The Church Rooms\, The Church Rooms\, Mansfield Road\,\, Edwinstowe\, Mansfield\, NG21 9NJ\, United Kingdom
END:VEVENT
BEGIN:VEVENT
DTSTART;TZID=UTC:20170315T140000
DTEND;TZID=UTC:20170315T160000
DTSTAMP:20260424T110154
CREATED:20161023T151335Z
LAST-MODIFIED:20170820T132259Z
UID:31-1489586400-1489593600@edwinstowehistory.org.uk
SUMMARY:Tudor Food
DESCRIPTION:Presenter: Samantha Glaswell
URL:https://edwinstowehistory.org.uk/event/samantha-glaswell-tudor-food/
LOCATION:The Church Rooms\, The Church Rooms\, Mansfield Road\,\, Edwinstowe\, Mansfield\, NG21 9NJ\, United Kingdom
END:VEVENT
END:VCALENDAR